BEGIN:VCALENDAR
VERSION:2.0
PRODID:Events Booking
BEGIN:VEVENT
UID:69eb27c3dfae5
SUMMARY:26e Assemblée Générale
DESCRIPTION:
 Programme 
 
 Nous tiendrons la 26e Assemblée générale 
 (AG) au Musée national\, Landesmuseum Zürich.
 Nous vous présenterons 
 tout ce qu'IFMA Suisse a accompli au cours de la première année d'exerci
 ce sous la coprésidence de notre association. Les activités réalisées 
 dans chacun des départements durant cette année d'exercice tout comme le
 s objectifs visés pour le prochain exercice 2023/24 y seront également e
 xposées. Par ailleurs\, il s'agira d'élire de nouveaux membres du Comit
 é directeur.
 À côté de l'AG ordinaire\, nous aurons l'occasion de no
 us renseigner sur le Musée national\, en particulier sur le nouveau bâti
 ment construit. Puis\, en début de soirée\, nous pourrons réseauter en 
 dégustant un apéritif en compagnie des personnes invitées.
 Nous nous 
 réjouissons d'ores et déjà d'une AG intéressante avec vous tous et vou
 s toutes !
LOCATION:Museumstrasse 2\, 8001 Zürich\, Schweiz
DTSTART:20230831T133000Z
DTEND:20230831T173000Z
DTSTAMP:20260424T102019Z
ORGANIZER;CN=IFMA Schweiz :MAILTO:admin@ifma.ch
GEO:47.379024;8.541006
X-APPLE-STRUCTURED-LOCATION;VALUE=URI;X-ADDRESS=Museumstrasse 2\, 8001 Zür
 ich\, Schweiz;X-APPLE-RADIUS=72;X-TITLE=Zürich\, Landesmuseum:47.379024;8
 .541006
END:VEVENT
END:VCALENDAR