BEGIN:VCALENDAR
VERSION:2.0
PRODID:Events Booking
BEGIN:VEVENT
UID:69e8018cc6bef
SUMMARY:25. IFMA Generalversammlung
DESCRIPTION:Programm
 
LOCATION:Münsterhof 20\, 8001 Zürich\, Schweiz
DTSTART:20220901T133000Z
DTEND:20220901T173000Z
DTSTAMP:20260422T010028Z
ORGANIZER;CN=IFMA Schweiz :MAILTO:admin@ifma.ch
GEO:47.37011;8.541781
X-APPLE-STRUCTURED-LOCATION;VALUE=URI;X-ADDRESS=Münsterhof 20\, 8001 Züri
 ch\, Schweiz;X-APPLE-RADIUS=72;X-TITLE=Zürich\, Zunfthaus Zur Meisen:47.3
 7011;8.541781
END:VEVENT
END:VCALENDARALENDAR