BEGIN:VCALENDAR
VERSION:2.0
PRODID:Events Booking
BEGIN:VEVENT
UID:69e7f3f65ad38
SUMMARY:24e Assemblée Générale d' IFMA
DESCRIPTION:Programme
 
 14:00&nbsp\;&nbsp\;&nbsp\;&nbsp\;&nbsp\;&nbsp\; 
 Arrivée des membres au musée LHOC / Auditorium
 14:30&nbsp\;&nbsp\;&nbs
 p\;&nbsp\;&nbsp\;&nbsp\; Accueil par Susanna Caravatti-Felchlin\, Préside
 nte d'IFMA Suisse et Accueil par Stephan M. Schneider\, Directeur du musé
 e et de la gestion des visites
 14:45&nbsp\;&nbsp\;&nbsp\;&nbsp\;&nbsp\;&
 nbsp\; Visite guidée CHOCO-WELT
 16:00&nbsp\;&nbsp\;&nbsp\;&nbsp\;&nbsp\
 ;&nbsp\; Pause café en terrasse
 16:30&nbsp\;&nbsp\;&nbsp\;&nbsp\;&nbsp\
 ;&nbsp\; Assemblée générale conformément à l'ordre du jour
 18:00&nb
 sp\;&nbsp\;&nbsp\;&nbsp\;&nbsp\;&nbsp\; Heure de l'apéritif et de discuss
 ions plus approfondies
 
 Le nombre de personnes est limité à 50\, sel
 on le principie du «&nbsp\;premier arrivé\, premier servi&nbsp\;».Obser
 ver le port obligatoire des masques à l'intérieur.
 
LOCATION:Seestrasse 204\, 8802 Kilchberg\, Schweiz
DTSTART:20210825T121500Z
DTEND:20210825T173000Z
DTSTAMP:20260422T000230Z
ORGANIZER;CN=IFMA Schweiz :MAILTO:admin@ifma.ch
GEO:47.317609;8.552404
X-APPLE-STRUCTURED-LOCATION;VALUE=URI;X-ADDRESS=Seestrasse 204\, 8802 Kilch
 berg\, Schweiz;X-APPLE-RADIUS=72;X-TITLE=Kilchberg\, Lindt Home of Chocola
 te:47.317609;8.552404
END:VEVENT
END:VCALENDAR