BEGIN:VCALENDAR
VERSION:2.0
PRODID:Events Booking
BEGIN:VEVENT
UID:69e7e3cfaa812
SUMMARY:23e Assemblée Générale d' IFMA
DESCRIPTION:Programme
 L'assemblée générale est l’occasion de passer 
 encore une fois l’année d’exercice en revue. Nous vous informons de n
 otre journée de la stratégie organisée au sein du comité directeur en 
 juin 2020 et dressons une perspective de l’année à venir.
 Pour ce qu
 i concerne le programme d’animation\, la directrice Caroline Sciullo nou
 s présente le Balgrist Campus et nous propose ensuite une visite exclusiv
 e en groupes de 4 à 5 personnes (env. 30 min).
 Veuillez bien noter que 
 le port du masque est partout obligatoire sur le site hospitalier.
 
LOCATION:Forchstrasse 340\, 8008 Zürich\, Schweiz
DTSTART:20200826T134500Z
DTEND:20200826T173000Z
DTSTAMP:20260421T225335Z
ORGANIZER;CN=IFMA Schweiz :MAILTO:admin@ifma.ch
GEO:47.352138;8.574386
X-APPLE-STRUCTURED-LOCATION;VALUE=URI;X-ADDRESS=Forchstrasse 340\, 8008 Zü
 rich\, Schweiz;X-APPLE-RADIUS=72;X-TITLE=Zürich Balgrist Campus:47.352138
 ;8.574386
END:VEVENT
END:VCALENDAR