BEGIN:VCALENDAR
VERSION:2.0
PRODID:Events Booking
BEGIN:VEVENT
UID:69eb46d751152
SUMMARY:Brauchwarmwasser: Probleme und zukünftige Konzepte
DESCRIPTION:Save the date!Kostenlose Veranstaltung des Forum Energie Züric
 h FEZ. Weitere Informationen folgen zeitnah.
LOCATION:Beatenpl. 2\, 8001 Zürich\, Schweiz
DTSTART:20250924T154500Z
DTEND:20250924T171500Z
DTSTAMP:20250227T145910Z
ORGANIZER;CN=IFMA Schweiz :MAILTO:admin@ifma.ch
GEO:47.37578;8.540698
X-APPLE-STRUCTURED-LOCATION;VALUE=URI;X-ADDRESS=Beatenpl. 2\, 8001 Zürich\
 , Schweiz;X-APPLE-RADIUS=72;X-TITLE=Zürich\, EWZ Vortragssaal:47.37578;8.
 540698
END:VEVENT
END:VCALENDAR