BEGIN:VCALENDAR
VERSION:2.0
PRODID:Events Booking
BEGIN:VEVENT
UID:69ea11ccc8f16
SUMMARY:Bioenergie Forum
DESCRIPTION:Am 8. Bioenergie-Forum diskutieren Vertreter aus Wirschaft\, Po
 litik\, Verwaltung sowie Forschung und Entwicklung die Stärken der Bioene
 rgie\, zukünftige Geschäftsmodelle und die dafür notwendigen politische
 n Rahmenbedingungen.&nbsp\;
LOCATION:Baselstrasse 3\, 4532 Solothurn\, Schweiz
DTSTART:20210831T073000Z
DTEND:20210831T140000Z
DTSTAMP:20260423T143420Z
ORGANIZER;CN=IFMA Schweiz :MAILTO:admin@ifma.ch
GEO:47.220854;7.55547
X-APPLE-STRUCTURED-LOCATION;VALUE=URI;X-ADDRESS=Baselstrasse 3\, 4532 Solot
 hurn\, Schweiz;X-APPLE-RADIUS=72;X-TITLE=Solothurn\, Rythalle:47.220854;7.
 55547
END:VEVENT
END:VCALENDAR