BEGIN:VCALENDAR
VERSION:2.0
PRODID:Events Booking
BEGIN:VEVENT
UID:69eb2e2bd4408
SUMMARY:Bauen im Bestand – Lunch Talks Zukunft Stadtnatur
DESCRIPTION:&nbsp\;
LOCATION:Zürich\, Schweiz
DTSTART:20221124T110000Z
DTEND:20221124T120000Z
DTSTAMP:20221026T072503Z
ORGANIZER;CN=IFMA Schweiz :MAILTO:admin@ifma.ch
GEO:47.376887;8.541694
X-APPLE-STRUCTURED-LOCATION;VALUE=URI;X-ADDRESS=Zürich\, Schweiz;X-APPLE-R
 ADIUS=72;X-TITLE=online:47.376887;8.541694
END:VEVENT
END:VCALENDAR