BEGIN:VCALENDAR
VERSION:2.0
PRODID:Events Booking
BEGIN:VEVENT
UID:69e77d06d3291
SUMMARY:Roadshow: Nachhaltigkeit im Betrieb
DESCRIPTION:
 &nbsp\;
 &nbsp\;
 Die IFMA Road Show 2017/18 zum Thema «N
 achhaltigkeit im Betrieb» präsentiert die wichtigsten Nachhaltigkeitssta
 ndards- und Zertifikate für den Betrieb von Immobilien.Sie erfahren von u
 nseren Gastgebern vor Ort\, welchen Mehrwert ein zertifiziertes Gebäude o
 der Areal für seine Nutzer und die Bewirtschaftung tatsächlich bringt un
 d wo die Herausforderungen auf dem Weg dorthin liegen.Nach spannenden Impu
 lsreferaten nehmen sich an verschiedenen Marktständen Experten Zeit\, Ihn
 en die Standards der Nachhaltigkeit vorzustellen und individuelle Fragen z
 u beantworten.
 Detailprogramm und Anmeldung folgen ab 5. April 2018
 
LOCATION:Erlenmattstrasse 7\, 4058 Basel\, Schweiz
DTSTART:20180425T150000Z
DTEND:20180425T170000Z
DTSTAMP:20260421T153502Z
ORGANIZER;CN=IFMA Schweiz :MAILTO:admin@ifma.ch
GEO:47.569018;7.599313
X-APPLE-STRUCTURED-LOCATION;VALUE=URI;X-ADDRESS=Erlenmattstrasse 7\, 4058 B
 asel\, Schweiz;X-APPLE-RADIUS=72;X-TITLE=:47.569018;7.599313
END:VEVENT
END:VCALENDAR