BEGIN:VCALENDAR
VERSION:2.0
PRODID:Events Booking
BEGIN:VEVENT
UID:69e9d973b5748
SUMMARY:Roadshow: CAN-FM\, Romandie
DESCRIPTION:
 &nbsp\;
 &nbsp\;
 &nbsp\;
 Dans le cadre des tournées Ro
 adshow 2016/2017\, l’IFMA présente le module d’application digitale d
 u CAN FM. En complément\, des exemples de projets concrets sont exposés 
 à l’occasion de ces tournées tout comme des thèmes divers en fonction
  de la région.Les tournées Roadshow ont lieu en fin de journée de trava
 il et se terminent par un apéritif dans une ambiance détendue\, offrant 
 la possibilité d’échanges et d’entretiens inspirants au sein du publ
 ic de professionnels experts.
 Programme détaillé
 Frais
 
 Gratuit 
 pour les membres de l’IFMA et de RICS
 Frais non membres 50 CHF
 Frais
  30 CHF pour les membres bâtis digital suisse\, CRB\, CUREM Alumni\, FEZ\
 , fmpro\, GNI\, IPB\, SVIT FM Schweizà payer sur place\, cash avec accus
 é de réception
 
LOCATION:Avenue de la Vallombreuse 100\, 1008 Prilly\, Schweiz
DTSTART:20170316T160000Z
DTEND:20170316T173000Z
DTSTAMP:20260423T103355Z
ORGANIZER;CN=IFMA Schweiz :MAILTO:admin@ifma.ch
GEO:46.541245;6.6099
X-APPLE-STRUCTURED-LOCATION;VALUE=URI;X-ADDRESS=Avenue de la Vallombreuse 1
 00\, 1008 Prilly\, Schweiz;X-APPLE-RADIUS=72;X-TITLE=Prilly\, Banque Canto
 nale Vaudoise:46.541245;6.6099
END:VEVENT
END:VCALENDAR