BEGIN:VCALENDAR
VERSION:2.0
PRODID:Events Booking
BEGIN:VEVENT
UID:69e7c7b844169
SUMMARY:IFMA Expert Talk: ProLeMo – Modèle de Processus et de Prestation
 s pour le FM
DESCRIPTION:Programme
 ProLeMo est le modèle de processus et de prestatio
 ns pour le Facility Management qui définit les processus essentiels et cl
 asse toutes les prestations nécessaires à une bonne gestion des biens im
 mobiliers. Elle garantit ainsi l'interopérabilité des données de l'ouvr
 age à travers la subdivision des coûts d'exploitation données. Elle ser
 t comme base de compréhension commune.
 
 Quels est son intégration da
 ns l’environnement d’une entreprise ?
 Quels sont les exemples d’un
 e intégration réussie ?
 Quelles sont les évolutions à venir ?
 
 C
 onférancier Manahen Barilier
 
LOCATION:Zürich\, Schweiz
DTSTART:20220126T110000Z
DTEND:20220126T113000Z
DTSTAMP:20260421T205344Z
ORGANIZER;CN=IFMA Schweiz :MAILTO:admin@ifma.ch
GEO:47.376887;8.541694
X-APPLE-STRUCTURED-LOCATION;VALUE=URI;X-ADDRESS=Zürich\, Schweiz;X-APPLE-R
 ADIUS=72;X-TITLE=online:47.376887;8.541694
END:VEVENT
END:VCALENDAR