BEGIN:VCALENDAR
VERSION:2.0
PRODID:Events Booking
BEGIN:VEVENT
UID:69e7c7b5a1fb1
SUMMARY:IFMA Zoom Café
DESCRIPTION:Premier échange dans la région suisse romande&nbsp\; \"Vos be
 soins\, vos envies\"
 
LOCATION:Zürich\, Schweiz
DTSTART:20210322T081500Z
DTEND:20210322T090000Z
DTSTAMP:20260421T205341Z
ORGANIZER;CN=IFMA Schweiz :MAILTO:admin@ifma.ch
GEO:47.376887;8.541694
X-APPLE-STRUCTURED-LOCATION;VALUE=URI;X-ADDRESS=Zürich\, Schweiz;X-APPLE-R
 ADIUS=72;X-TITLE=online:47.376887;8.541694
END:VEVENT
END:VCALENDAR