BEGIN:VCALENDAR
VERSION:2.0
PRODID:Events Booking
BEGIN:VEVENT
UID:69e78a89bf358
SUMMARY:IFMA Workplace Evolutionaries – WE HUB Switzerland?
DESCRIPTION:Bei der IFMA bündelt man die Thematik Workplace in der Communi
 ty Workplace Evolutionaries (WE)\, welche sich mit den neuesten Trends und
  Themen auseinandersetzt und Mitglieder aus der ganzen Welt miteinander ve
 rknüpft. Neben Anlässen\, Social Media Gruppen und Webinars steht ein gr
 osses internationales Netzwerk dahinter\, in das man als IFMA Mitglied seh
 r einfach einsteigen kann.
 Am Spotlight haben wir Kati Barklund von der 
 IFMA Schweden zu Gast. Sie ist im Advisory Board dieser Community und für
  den Aufbau von lokalen Hubs zuständig ist. Es bietet sich nun für die I
 FMA Mitglieder die Möglichkeit sich dieses Thema im kleinen Kreis genauer
  erläutern zu lassen. Möglicherweise gibt es auch Interessierte\, die ei
 nen HUB Switzerland zu gründen wollen\, was an diesem Anlass zur Diskussi
 on kommen kann. Dieser kostenlose Pre-Event zum Spotlight findet am 1. Feb
 ruar 2017 ab 10 Uhr in der Post Finance Arena in Bern statt und bietet 20 
 Plätze zur Teilnahme. Der Event wird Englisch sprachig sein.
LOCATION:Mingerstrasse 12\, 3014 Bern\, Schweiz
DTSTART:20170201T090000Z
DTEND:20170201T104500Z
DTSTAMP:20260421T163241Z
ORGANIZER;CN=IFMA Schweiz :MAILTO:admin@ifma.ch
GEO:46.958547;7.468641
X-APPLE-STRUCTURED-LOCATION;VALUE=URI;X-ADDRESS=Mingerstrasse 12\, 3014 Ber
 n\, Schweiz;X-APPLE-RADIUS=72;X-TITLE=Bern\, PostFinance-Arena\, Energie L
 ounge:46.958547;7.468641
END:VEVENT
END:VCALENDAR