BEGIN:VCALENDAR
VERSION:2.0
PRODID:Events Booking
BEGIN:VEVENT
UID:69e7aafc3f10e
SUMMARY:IFMA Studienreise 2018: Barcelona
DESCRIPTION:Detailprogramm und Anmeldung
 Die Studienreise steht ganz im F
 okus von World Workplace Europe 2018. Die Teilnehmer profitieren vom organ
 isierten Besuch des WWE und dem Austausch mit internationalen IFMA-Mitglie
 dern.
 
 &nbsp\;
LOCATION:Barcelona\, Provinz Barcelona\, Spanien
DTSTART:20180515T050000Z
DTEND:20180517T180000Z
DTSTAMP:20260421T185108Z
ORGANIZER;CN=IFMA Schweiz :MAILTO:admin@ifma.ch
GEO:41.385064;2.173404
X-APPLE-STRUCTURED-LOCATION;VALUE=URI;X-ADDRESS=Barcelona\, Provinz Barcelo
 na\, Spanien;X-APPLE-RADIUS=72;X-TITLE=Barcelona\, Spain:41.385064;2.17340
 4
END:VEVENT
END:VCALENDAR