BEGIN:VCALENDAR
VERSION:2.0
PRODID:Events Booking
BEGIN:VEVENT
UID:69e8337a189b4
SUMMARY:IFMA Site Visit: Arealbesichtigung Tech Cluster Zug
DESCRIPTION:
 ProgrammDer Tech Cluster Zug setzt ein Signal für die Zukun
 ft der Industrie in der Schweiz. Am einzigartigen Standort in Zug entsteht
  ein attraktives Innovationsquartier mit grosser Ausstrahlung. Ein Höchst
 mass an Vernetzung schafft ein Stück lebendige Stadt. Ausgangspunkt für 
 das Vorhaben Tech Cluster Zug (TCZ) ist die strategische Erneuerung des We
 rkareals der V-ZUG. Die Modernisierung und räumliche Konzentration der Pr
 oduktion ermöglichen die Ansiedelung von zusätzlichen Industriebetrieben
 \, technologienahen Dienstleistungen und Ausbildungseinrichtungen. Auf ach
 t neuen Baufeldern soll ein vernetztes\, qualitativ hochstehendes und stä
 dtisches Ökosystem für Innovation\, Produktion und Ausbildung entstehen.
 
 Referierende: Christoph Graf\, Leiter Facility Management &amp\; Areale
 ntwicklung / Mitglied der GL bei Tech Cluster Zug AGKatja Hauser\, Leiteri
 n Bauprojekte &amp\; Immobilienentwicklung / Mitglied der GL bei Tech Clus
 ter Zug AG
 
LOCATION:Grienbachstrasse 11\, 6300 Zug\, Schweiz
DTSTART:20240605T143000Z
DTEND:20240605T170000Z
DTSTAMP:20240206T104321Z
ORGANIZER;CN=IFMA Schweiz :MAILTO:admin@ifma.ch
GEO:47.18387;8.522826
X-APPLE-STRUCTURED-LOCATION;VALUE=URI;X-ADDRESS=Grienbachstrasse 11\, 6300 
 Zug\, Schweiz;X-APPLE-RADIUS=72;X-TITLE=:47.18387;8.522826
END:VEVENT
END:VCALENDAR