BEGIN:VCALENDAR
VERSION:2.0
PRODID:Events Booking
BEGIN:VEVENT
UID:69e84a48b383e
SUMMARY:IFMA Site Visit: Novartis Campus
DESCRIPTION:
 Programm
 
 Wir werden vieles über das moderne Zentrum f
 ür Forschung\, Entwicklung und Management erfahren und die Besonderheiten
  des Campus zu Gesicht bekommen.
 Während des Rundgangs werden wir auch 
 mehr über die spezifischen FM Themen des Campus erfahren.
 Zum Ausklang 
 wollen wir mit Euch noch einen kurzen Diskurs über ProLeMo sowie Eure Erf
 ahrungen in der Praxis führen und den Abend mit einem kleinen Apéro absc
 hliessen.
LOCATION:Hauptporte - MainGate\, Fabrikstrasse 2\, 4056 Basel\, Schweiz
DTSTART:20230912T150000Z
DTEND:20230912T173000Z
DTSTAMP:20221205T114950Z
ORGANIZER;CN=IFMA Schweiz :MAILTO:admin@ifma.ch
GEO:47.571802;7.580631
X-APPLE-STRUCTURED-LOCATION;VALUE=URI;X-ADDRESS=Hauptporte - MainGate\, Fab
 rikstrasse 2\, 4056 Basel\, Schweiz;X-APPLE-RADIUS=72;X-TITLE=Novartis Cam
 pus Basel:47.571802;7.580631
END:VEVENT
END:VCALENDAR