BEGIN:VCALENDAR
VERSION:2.0
PRODID:Events Booking
BEGIN:VEVENT
UID:69e7adc654dc1
SUMMARY:IFMA Site Visit: « L’implication du FM sur un site de haute séc
 urité tel que le Datacenter »
DESCRIPTION:
 Le chapitre Romand de l'IFMA Suisse et&nbsp\;la Direction de
  Safe Host SA\, leader romand dans le domaine de l’hébergement informat
 ique\, ont le plaisir de vous inviter à un&nbsp\;«&nbsp\;Site Visite&nbs
 p\;». 
 Programme
 &nbsp\;
 &nbsp\;
LOCATION:Route des Avouillons 32\, 1196 Gland\, Switzerland
DTSTART:20170914T144500Z
DTEND:20170914T171500Z
DTSTAMP:20260421T190302Z
ORGANIZER;CN=IFMA Schweiz :MAILTO:admin@ifma.ch
GEO:46.414502;6.265033
X-APPLE-STRUCTURED-LOCATION;VALUE=URI;X-ADDRESS=Route des Avouillons 32\, 1
 196 Gland\, Switzerland;X-APPLE-RADIUS=72;X-TITLE=:46.414502;6.265033
END:VEVENT
END:VCALENDAR