BEGIN:VCALENDAR
VERSION:2.0
PRODID:Events Booking
BEGIN:VEVENT
UID:69e9ec2b2ea47
SUMMARY:IFMA Road Show: Eigentümerhaftung und Betreiberverantwortung
DESCRIPTION:
 Detailprogramm 
 Treffpunkt im Glattzentrum: Gebäudeteil G
 latt Plus im 2. OG befindet sich das Sitzungszimmer GLPU 2 &gt\;&gt\; Plan
 
 &nbsp\;
 Die Gesetze im deutschsprachigen Raum lassen keinen Spielraum
 \, wenn es um die Verantwortung der Eigentümer für ihre Immobilien geht.
  Umfangreiche gesetzliche Anforderungen\, Verordnungen\, Normen und Richtl
 inien geben den Rahmen vor\, in dem Immobilieneigentümer den Betrieb ihre
 r Immobilien rechtskonform abwickeln müssen. Aber auch Projektentwickler 
 und Bauabteilungen sind immer stärker gefordert\, den Immobilienbetrieb m
 it einer systematischen Inbetriebnahme und Übergabe sowie digitaler Besta
 ndsdokumentation rechtssicher vorzubereiten.
 Verhindert um an der Präse
 ntation teilzunehmen? Die Dokumentation können Sie hier bestellen. IFMA u
 nd CRB Mitglieder erhalten 15% Rabatt auf den regulären Preis von CHF 158
 .-
 &nbsp\;
 &nbsp\;
 &nbsp\;
 &nbsp\;
LOCATION:Einkaufszentrum Glatt\, Neue Winterthurerstrasse 99\, 8304 Wallise
 llen\, Schweiz
DTSTART:20181129T160000Z
DTEND:20181129T180000Z
DTSTAMP:20260423T115347Z
ORGANIZER;CN=IFMA Schweiz :MAILTO:admin@ifma.ch
GEO:47.408453;8.596056
X-APPLE-STRUCTURED-LOCATION;VALUE=URI;X-ADDRESS=Einkaufszentrum Glatt\, Neu
 e Winterthurerstrasse 99\, 8304 Wallisellen\, Schweiz;X-APPLE-RADIUS=72;X-
 TITLE=Zürich\, Glattzentrum:47.408453;8.596056
END:VEVENT
END:VCALENDAR