BEGIN:VCALENDAR
VERSION:2.0
PRODID:Events Booking
BEGIN:VEVENT
UID:69e7c77a24611
SUMMARY:IFMA Meets: ProLeMo+
DESCRIPTION:
 Webinar mit René Sigg\, Moderation Dr. Simon Ashworth
 Am 
 Vormittag vom Webinar erhalten Sie einen Aktivierungslink für Zoom. 
 G
 äste bitten wir den Betrag von CHF 25.- mit TWINT sofort zu begleichen\, 
 spätestens bis 12h am Webinartag. Andernfalls kann keine Gewähr seitens 
 IFMA übernommen werden\, dass die Zahlung rechtzeitig eintrifft und somit
  der Link noch zeitgerecht zugestellt werden kann. Somit verfällt ihre Za
 hlung ohne Anspruch auf Rückvergütung.
 
LOCATION:Zürich\, Schweiz
DTSTART:20220317T153000Z
DTEND:20220317T163000Z
DTSTAMP:20260421T205242Z
ORGANIZER;CN=IFMA Schweiz :MAILTO:admin@ifma.ch
GEO:47.376887;8.541694
X-APPLE-STRUCTURED-LOCATION;VALUE=URI;X-ADDRESS=Zürich\, Schweiz;X-APPLE-R
 ADIUS=72;X-TITLE=online:47.376887;8.541694
END:VEVENT
END:VCALENDAR