BEGIN:VCALENDAR
VERSION:2.0
PRODID:Events Booking
BEGIN:VEVENT
UID:69e834078ea75
SUMMARY:IFMA Meets: Benchmark: Technisches FM im Gesundheitswesen
DESCRIPTION:
 ProgrammBenchmarking ermöglicht es Facility Managern Daten 
 zur Performance von Prozessen in Gebäuden strukturiert zu sammeln und zu 
 vergleichen. Mit Fokus auf das Technische Facility Management (FM) können
  Spitäler in einem Nationalen Benchmark nicht nur die eigene Entwicklung 
 der Leistungen jahresbezogen betrachten und plausibilisieren\, sondern im 
 Vergleich mit den Kollegen Optimierungspotentiale erkennen und mit Unterst
 ützung durch die ZHAW best practice Ansätze diskutieren.Referierende: Ka
 rien Diez\, ZHAW IFM\, und Alexander Wolfensberger von BEG Analytics AGMod
 eration: Simon Ashworth
LOCATION:Zürich\, Schweiz
DTSTART:20240415T143000Z
DTEND:20240415T153000Z
DTSTAMP:20240110T075115Z
ORGANIZER;CN=IFMA Schweiz :MAILTO:admin@ifma.ch
GEO:47.376887;8.541694
X-APPLE-STRUCTURED-LOCATION;VALUE=URI;X-ADDRESS=Zürich\, Schweiz;X-APPLE-R
 ADIUS=72;X-TITLE=online:47.376887;8.541694
END:VEVENT
END:VCALENDAR