BEGIN:VCALENDAR
VERSION:2.0
PRODID:Events Booking
BEGIN:VEVENT
UID:69e83921ddb37
SUMMARY:IFMA Meets: Low-Tech und Suffizienz
DESCRIPTION:
 Die Analyse zeigt\, dass ein Suffizienz-Konzept und eine Low
 -Tech Strategie besonders zielführend sind\, wenn es um eine fundamental 
 nachhaltige Transformation einer Liegenschaft geht.
 Während der Ansatz 
 der Suffizienz die Frage «was müssen wir bauen?» präzisiert\, stellt d
 ie Low-Tech Strategie das «wie müssen wir bauen?» dar.
 Referent: Jan 
 PeterModeration: Simon Ashworth
 Programm
 
LOCATION:Zürich\, Schweiz
DTSTART:20240108T153000Z
DTEND:20240108T163000Z
DTSTAMP:20231108T135258Z
ORGANIZER;CN=IFMA Schweiz :MAILTO:admin@ifma.ch
GEO:47.376887;8.541694
X-APPLE-STRUCTURED-LOCATION;VALUE=URI;X-ADDRESS=Zürich\, Schweiz;X-APPLE-R
 ADIUS=72;X-TITLE=online:47.376887;8.541694
END:VEVENT
END:VCALENDAR