BEGIN:VCALENDAR
VERSION:2.0
PRODID:Events Booking
BEGIN:VEVENT
UID:69e7c857a2175
SUMMARY:IFMA Meets: Kritische Erfolgsfaktoren für erfolgreiche BIM-Projekt
 e
DESCRIPTION:
 Webinar mit Simon Ashworth\, Moderation Wolfgang Perschel
 
 &gt\;&gt\;&gt\; Programm&nbsp\;
 Simon Ashworth stellt ein selbst erarbei
 tetes interaktives „FM-BIM-Mobilisierungs-Konzept“ vor. Das durchsuchb
 are PDF-Dokument bietet eine Fülle von Informationen und Quellen und wird
  in Form einer Aktivierungs-Checkliste präsentiert\, die von Facility Man
 agern und anderen an BIM-Projekten Beteiligten verwendet werden kann.
 Ei
 nen Tag vor dem Webinar erhalten Sie einen Aktivierungslink für Zoom.
 
LOCATION:Zürich\, Schweiz
DTSTART:20210128T153000Z
DTEND:20210128T163000Z
DTSTAMP:20260421T205623Z
ORGANIZER;CN=IFMA Schweiz :MAILTO:admin@ifma.ch
GEO:47.376887;8.541694
X-APPLE-STRUCTURED-LOCATION;VALUE=URI;X-ADDRESS=Zürich\, Schweiz;X-APPLE-R
 ADIUS=72;X-TITLE=online:47.376887;8.541694
END:VEVENT
END:VCALENDAR