BEGIN:VCALENDAR
VERSION:2.0
PRODID:Events Booking
BEGIN:VEVENT
UID:69e7c84c133e8
SUMMARY:IFMA Meets: Energieeffizientes Betreiben
DESCRIPTION:&gt\;&gt\;&gt\; Programm
 Energieeffizientes Betreiben - Vertr
 agsbausteine an Prolemo ausgerichtet für energieeffizientes Betreiben von
  Gebäuden
 Webinar mit&nbsp\; Prof. Markus Hubbuch\, Moderation Dr. Simo
 n Ashworth
 Einen Tag vor dem Webinar erhalten Sie einen Aktivierungslink
  für Zoom.
 
LOCATION:Zürich\, Schweiz
DTSTART:20211027T143000Z
DTEND:20211027T153000Z
DTSTAMP:20260421T205612Z
ORGANIZER;CN=IFMA Schweiz :MAILTO:admin@ifma.ch
GEO:47.376887;8.541694
X-APPLE-STRUCTURED-LOCATION;VALUE=URI;X-ADDRESS=Zürich\, Schweiz;X-APPLE-R
 ADIUS=72;X-TITLE=online:47.376887;8.541694
END:VEVENT
END:VCALENDAR