BEGIN:VCALENDAR
VERSION:2.0
PRODID:Events Booking
BEGIN:VEVENT
UID:69eb254738d3d
SUMMARY:IFMA Meets: Energie\, fluides et élimination
DESCRIPTION: Programme
 Le Facility Manager est responsable de la gestion 
 des bâtiments et des services à l’organisation\, aux personnes. Parmi 
 les défis auxquels il doit faire face\, il y à l’approvisionnement en 
 énergies\, en fluides et leurs éliminations respectueuses de l’environ
 nement. Cet approvisionnement doit être durable\, économique et sûr.
 
LOCATION:Zürich\, Schweiz
DTSTART:20240222T110000Z
DTEND:20240222T114500Z
DTSTAMP:20230914T103442Z
ORGANIZER;CN=IFMA Schweiz :MAILTO:admin@ifma.ch
GEO:47.376887;8.541694
X-APPLE-STRUCTURED-LOCATION;VALUE=URI;X-ADDRESS=Zürich\, Schweiz;X-APPLE-R
 ADIUS=72;X-TITLE=online:47.376887;8.541694
END:VEVENT
END:VCALENDAR