BEGIN:VCALENDAR
VERSION:2.0
PRODID:Events Booking
BEGIN:VEVENT
UID:69e8343c420ed
SUMMARY:IFMA Meets: AI und der Einfluss auf RE und FM
DESCRIPTION:ProgrammÜber KI &amp\; KA in der Immobilienwirtschaft - Eine l
 eidenschaftliche Umarmung der IgnoranzDr. Christian Schlicht ist als freie
 s Innovationsradikal in der Branche bekannt und setzt sich als erfahrener 
 «Paartherapeut» für Auflösung der Ignoranz zwischen Innovationen und d
 er Immobilienwirtschaft ein.
 Redner: Christian Schlicht\, CEO &amp\; Fou
 nder bei Beyond Tech GmbHModerator: Simon Ashworth
LOCATION:Zürich\, Schweiz
DTSTART:20240318T153000Z
DTEND:20240318T163000Z
DTSTAMP:20240109T095525Z
ORGANIZER;CN=IFMA Schweiz :MAILTO:admin@ifma.ch
GEO:47.376887;8.541694
X-APPLE-STRUCTURED-LOCATION;VALUE=URI;X-ADDRESS=Zürich\, Schweiz;X-APPLE-R
 ADIUS=72;X-TITLE=online:47.376887;8.541694
END:VEVENT
END:VCALENDAR