BEGIN:VCALENDAR
VERSION:2.0
PRODID:Events Booking
BEGIN:VEVENT
UID:69e9d98340b8b
SUMMARY:IFMA GV und Jubiläumsanlass
DESCRIPTION:
 Wir freuen uns\, dass unser Berufsverband IFMA Schweiz diese
 s Jahr das 20- jährige Bestehen feiern darf. Dies möchten wir mit Ihnen 
 im Anschluss an die Generalversammlung auf einer erlebnisreichen Schifffah
 rt auf dem Zürichsee mit verschiedenen Höhepunkten ab 16 Uhr zelebrieren
 . 
 Detailprogramm
 &nbsp\;
 &nbsp\;
 &nbsp\;
 &nbsp\;
LOCATION:Seefeldstrasse 91\, 8008 Zürich\, Schweiz
DTSTART:20170831T110000Z
DTEND:20170831T193000Z
DTSTAMP:20260423T103411Z
ORGANIZER;CN=IFMA Schweiz :MAILTO:admin@ifma.ch
GEO:47.359697;8.553776
X-APPLE-STRUCTURED-LOCATION;VALUE=URI;X-ADDRESS=Seefeldstrasse 91\, 8008 Z
 ürich\, Schweiz;X-APPLE-RADIUS=72;X-TITLE=:47.359697;8.553776
END:VEVENT
END:VCALENDAR