BEGIN:VCALENDAR
VERSION:2.0
PRODID:Events Booking
BEGIN:VEVENT
UID:69e77e5e78eee
SUMMARY:IFMA Expert Talk: Wie können wir in den neuen Bürowelten die Pers
 onenströme steuern?
DESCRIPTION:
 
LOCATION:Centralbahnstrasse 13\, 4051 Basel\, Schweiz
DTSTART:20170607T143000Z
DTEND:20170607T170000Z
DTSTAMP:20260421T154046Z
ORGANIZER;CN=IFMA Schweiz :MAILTO:admin@ifma.ch
GEO:47.547529;7.59091
X-APPLE-STRUCTURED-LOCATION;VALUE=URI;X-ADDRESS=Centralbahnstrasse 13\, 405
 1 Basel\, Schweiz;X-APPLE-RADIUS=72;X-TITLE=:47.547529;7.59091
END:VEVENT
END:VCALENDAR