BEGIN:VCALENDAR
VERSION:2.0
PRODID:Events Booking
BEGIN:VEVENT
UID:69e7aadf4c03e
SUMMARY:IFMA Expert Talk: Raum und Farbe
DESCRIPTION:Detailprogramm
 
LOCATION:Brünigstrasse 4b\, 6055 Alpnach\, Schweiz
DTSTART:20190221T154500Z
DTEND:20190221T193000Z
DTSTAMP:20260421T185039Z
ORGANIZER;CN=IFMA Schweiz :MAILTO:admin@ifma.ch
GEO:46.94301;8.271726
X-APPLE-STRUCTURED-LOCATION;VALUE=URI;X-ADDRESS=Brünigstrasse 4b\, 6055 Al
 pnach\, Schweiz;X-APPLE-RADIUS=72;X-TITLE=Alpnachdorf\, farbforum:46.94301
 ;8.271726
END:VEVENT
END:VCALENDAR