BEGIN:VCALENDAR
VERSION:2.0
PRODID:Events Booking
BEGIN:VEVENT
UID:69e7e9ae53400
SUMMARY:IFMA Expert Talk: online Webinaire Bases normatives du FM – Indic
 es pour le management de’Immobilier
DESCRIPTION:
 Programme
 Dans le domaine de l'immobilier\, les indices fo
 urnissent des indications essentielles sur la qualité de l'exploitation d
 'un bien immobilier. Le relevé de ces indices représente généralement 
 un travail considérable. Une définition précise des bases sur lesquelle
 s on peut s'appuyer est d'autant plus importante.
 Etablis en respectant 
 les normes internationales\, les indices standards présentés ici offre u
 n outil technique et méthodique pour un contrôle efficace des bâtiments
 \, des installations et des prestations dans le cadre d'un Facility manage
 ment à large spectre.
 
LOCATION:Zürich\, Schweiz
DTSTART:20220531T100000Z
DTEND:20220531T103000Z
DTSTAMP:20260421T231838Z
ORGANIZER;CN=IFMA Schweiz :MAILTO:admin@ifma.ch
GEO:47.376887;8.541694
X-APPLE-STRUCTURED-LOCATION;VALUE=URI;X-ADDRESS=Zürich\, Schweiz;X-APPLE-R
 ADIUS=72;X-TITLE=online:47.376887;8.541694
END:VEVENT
END:VCALENDAR