BEGIN:VCALENDAR
VERSION:2.0
PRODID:Events Booking
BEGIN:VEVENT
UID:69e9e1b6b1b8e
SUMMARY:IFMA Expert Talk Medien- und Gebäudetechnik\; Neuste Trends
DESCRIPTION:
 Wie sehen die neusten Trends in Bezug auf die Gebäude-/ Mul
 timediatechnik\, intelligente Haussteuerungs-/ Sicherheitssysteme sowie Br
 andmelde-Anlagen\, Lichtkonzepte\, hoch sichere Video- sowie Zutrittskontr
 ollen\, IT\, Telefonie und WIFI-Systeme aus?
 IFMA und RICS Mitglieder ko
 stenlosGäste: CHF 30.- zu bezahlen vor Ort
LOCATION:Stationsstrasse 89\, 6023 Rothenburg\, Schweiz
DTSTART:20170124T164500Z
DTEND:20170124T200000Z
DTSTAMP:20260423T110910Z
ORGANIZER;CN=IFMA Schweiz :MAILTO:admin@ifma.ch
GEO:47.090818;8.252918
X-APPLE-STRUCTURED-LOCATION;VALUE=URI;X-ADDRESS=Stationsstrasse 89\, 6023 R
 othenburg\, Schweiz;X-APPLE-RADIUS=72;X-TITLE=:47.090818;8.252918
END:VEVENT
END:VCALENDAR