BEGIN:VCALENDAR
VERSION:2.0
PRODID:Events Booking
BEGIN:VEVENT
UID:69e8343b7e375
SUMMARY:IFMA Expert Talk: Les grottes de Vallorbe\, BIM to FM
DESCRIPTION:
 Programme (Programme non encore mis à jour)
 Les Grottes d
 e Vallorbe ouvrent un nouveau chapitre avec une structure d'accueil modern
 e qui offre un espace à la fois fonctionnel\, innovant et respectueux de 
 l'environnement.Dans cet espace\, nous parlerons des pratiques FM actuelle
 s et des inefficacités causées par la mauvaise gestion des données et l
 e manque d'interopérabilité entre les systèmes d'information utilisés 
 pour la conception\, la construction et la gestion des installations\, et 
 de la manière dont l'intégration BIM FM peut résoudre ces problèmes.

  
LOCATION:Grottes de Vallorbe SA\, Chemin de la Résurgence 1\, 1337 Vallorb
 e\, Schweiz
DTSTART:20250619T133000Z
DTEND:20250619T173000Z
DTSTAMP:20230914T103442Z
ORGANIZER;CN=IFMA Schweiz :MAILTO:admin@ifma.ch
GEO:46.698327;6.345776
X-APPLE-STRUCTURED-LOCATION;VALUE=URI;X-ADDRESS=Grottes de Vallorbe SA\, Ch
 emin de la Résurgence 1\, 1337 Vallorbe\, Schweiz;X-APPLE-RADIUS=72;X-TIT
 LE=Waadt\, Grottes de Vallorbe AG:46.698327;6.345776
END:VEVENT
END:VCALENDAR