BEGIN:VCALENDAR
VERSION:2.0
PRODID:Events Booking
BEGIN:VEVENT
UID:69eb59cd75885
SUMMARY:IFMA Expert Talk: Le facility Management\, la décarbonatation et l
 e CO2
DESCRIPTION:
 Programme
 
 Toutes les entreprises visent l’efficacité
  énergétique\, le verdissement du mix énergétique\, la réduction des 
 émissions de CO2&nbsp\;: la décarbonation est une nécessité qui s'impo
 se à toutes les entreprises pour améliorer leurs compétitivités et ré
 pondre ainsi aux enjeux environnementaux\, tant pour leurs processus cœur
 s de métiers\, que pour les processus de supports\, tels que ceux gérés
  par le Facility Manager. &nbsp\;
 Ce Webinaire a pour but de montrer que
 lles sont les possibilités de réponses existantes pour ce thème\, qui e
 st une opportunité et non une menace\, dans le but de satisfaire nos clie
 ntes.
 
 Quelles sont les pistes de la décarbonatation dans l’environ
 nement d’une entreprise ?
 Quels sont les exemples réussis de cette r
 éduction du CO2 ?
 Quelles sont les évolutions à intégrer dans les pr
 ocessus FM ?
 
LOCATION:Zürich\, Schweiz
DTSTART:20230622T100000Z
DTEND:20230622T103000Z
DTSTAMP:20260424T135349Z
ORGANIZER;CN=IFMA Schweiz :MAILTO:admin@ifma.ch
GEO:47.376887;8.541694
X-APPLE-STRUCTURED-LOCATION;VALUE=URI;X-ADDRESS=Zürich\, Schweiz;X-APPLE-R
 ADIUS=72;X-TITLE=online:47.376887;8.541694
END:VEVENT
END:VCALENDAR