BEGIN:VCALENDAR
VERSION:2.0
PRODID:Events Booking
BEGIN:VEVENT
UID:69e8253b3d1b3
SUMMARY:IFMA Expert Talk: data driven decision making
DESCRIPTION:
 Programm
 
 Sei dabei beim exklusiven Expert Talk der IFMA
  zum Thema \"Data Driven Decision Making». Tauche ein in die Welt der dat
 engesteuerten Zukunft und erfahre\, wie diese deine Entscheidungen optimie
 ren kann.
 Verpasse nicht die Gelegenheit\, dich mit Fachleuten der Branc
 he auszutauschen und wertvolle Einblicke in die Zukunft des Facility Manag
 ements und Immobilienwesens zu gewinnen.
 Euer IFMA Regionencircle
LOCATION:Thurgauerstrasse 101a\, 8152 Zürich\, Schweiz
DTSTART:20240222T153000Z
DTEND:20240222T181500Z
DTSTAMP:20231217T122959Z
ORGANIZER;CN=IFMA Schweiz :MAILTO:admin@ifma.ch
GEO:47.421143;8.555489
X-APPLE-STRUCTURED-LOCATION;VALUE=URI;X-ADDRESS=Thurgauerstrasse 101a\, 815
 2 Zürich\, Schweiz;X-APPLE-RADIUS=72;X-TITLE=Implenia Connect:47.421143;8
 .555489
END:VEVENT
END:VCALENDAR