BEGIN:VCALENDAR
VERSION:2.0
PRODID:Events Booking
BEGIN:VEVENT
UID:69ecc61eedd6a
SUMMARY:Get Together Zürich
DESCRIPTION:
 &nbsp\;
 Gerne lade ich euch zum&nbsp\; get together in ein
 em neuen Rahmen ein.
 Treffpunkt ist ab 18:00 Uhr im hintersten Bereich d
 es Restaurant Bunt am Bahnhof Zürich-Altstetten
 Um 18:30 Uhr beginnt de
 r Mitgliederbeitrag „Aus dem Nähkästchen von ...“
 &nbsp\;
 Es wir
 d das Thema «ereignisorientierte Reinigung» vorgestellt und disktutiert.
  Folgende Fragestellungen werden dabei behandelt:
 
 Wie zeigt sich der 
 Einfluss des «Digitalisierungstrends» auf Facility Service – Leistunge
 n?
 Welche Erfahrungen (Stolpersteine\, Benefits) wurden damit bereits ge
 macht?
 Wo eignet sich dies und welche Rahmenbedingungen müssen gegeben 
 sein?
 Welche Erwartungen bestehen seitens Kunde\, welche seitens Dienstl
 eister und welche können davon erfüllt werden?
 Wo könnte der Trend hi
 ngehen?
 
 Anmeldungen an&nbsp\;braendli@rohrag.ch (André Deppeler ist 
 bis April abwesend und wird in dieser Zeit durch Philipp Brändli vertrete
 n)
 &nbsp\;
LOCATION:Vulkanpl. 2\, 8048 Zürich\, Schweiz
DTSTART:20200205T170000Z
DTEND:20200205T200000Z
DTSTAMP:20260425T154814Z
ORGANIZER;CN=IFMA Schweiz :MAILTO:admin@ifma.ch
GEO:47.392057;8.49124
X-APPLE-STRUCTURED-LOCATION;VALUE=URI;X-ADDRESS=Vulkanpl. 2\, 8048 Zürich\
 , Schweiz;X-APPLE-RADIUS=72;X-TITLE=Zürich\, Restaurant Bunt:47.392057;8.
 49124
END:VEVENT
END:VCALENDAR