BEGIN:VCALENDAR
VERSION:2.0
PRODID:Events Booking
BEGIN:VEVENT
UID:69e9d9970d54e
SUMMARY:Get Together Romandie (rencontre mensuelles)
DESCRIPTION:Inscription: roger.hemberger@ifma.ch
LOCATION:Centre commercial i.Life\, Route Suisse 8A\, 1163 Etoy\, Schweiz
DTSTART:20170202T170000Z
DTEND:20170202T183000Z
DTSTAMP:20260423T103431Z
ORGANIZER;CN=IFMA Schweiz :MAILTO:admin@ifma.ch
GEO:46.473736;6.416978
X-APPLE-STRUCTURED-LOCATION;VALUE=URI;X-ADDRESS=Centre commercial i.Life\, 
 Route Suisse 8A\, 1163 Etoy\, Schweiz;X-APPLE-RADIUS=72;X-TITLE=Etoy\, Reg
 us:46.473736;6.416978
END:VEVENT
END:VCALENDAR