BEGIN:VCALENDAR
VERSION:2.0
PRODID:Events Booking
BEGIN:VEVENT
UID:69e8257294188
SUMMARY:Get Together Bern
DESCRIPTION:
 In lockerer Atmosphäre bei einem Glas Wein oder Bier sich 
 über die beruflichen Herausforderungen austauschen. Gäste sind herzlich 
 willkommen.
 Anmeldung: thomas.luethi@ifma.ch
 &nbsp\;
 &nbsp\;
 
LOCATION:Hirschengraben 24\, 3011 Bern\, Schweiz
DTSTART:20230928T153000Z
DTEND:20230928T170000Z
DTSTAMP:20260422T033338Z
ORGANIZER;CN=IFMA Schweiz :MAILTO:admin@ifma.ch
GEO:46.945959;7.437019
X-APPLE-STRUCTURED-LOCATION;VALUE=URI;X-ADDRESS=Hirschengraben 24\, 3011 Be
 rn\, Schweiz;X-APPLE-RADIUS=72;X-TITLE=Bern\, Restaurant National :46.9459
 59;7.437019
END:VEVENT
END:VCALENDAR