BEGIN:VCALENDAR
VERSION:2.0
PRODID:Events Booking
BEGIN:VEVENT
UID:69e7c77054fe5
SUMMARY:Get Together Bern
DESCRIPTION:
 &nbsp\;
 &nbsp\;
 In lockerer Atmosphäre bei einem Glas W
 ein oder Bier sich über die beruflichen Herausforderungen austauschen. G
 äste sind herzlich willkommen.
 Anmeldung: thomas.luethi@ifma.ch
 
 &n
 bsp\;
LOCATION:Hirschengraben 24\, 3011 Bern\, Schweiz
DTSTART:20210811T153000Z
DTEND:20210811T170000Z
DTSTAMP:20260421T205232Z
ORGANIZER;CN=IFMA Schweiz :MAILTO:admin@ifma.ch
GEO:46.945959;7.437019
X-APPLE-STRUCTURED-LOCATION;VALUE=URI;X-ADDRESS=Hirschengraben 24\, 3011 Be
 rn\, Schweiz;X-APPLE-RADIUS=72;X-TITLE=Bern\, Restaurant National :46.9459
 59;7.437019
END:VEVENT
END:VCALENDAR