BEGIN:VCALENDAR
VERSION:2.0
PRODID:Events Booking
BEGIN:VEVENT
UID:69e77e5e7ac3b
SUMMARY:Circular Cities Switzerland
DESCRIPTION:Circular Economy aus der Perspektive der Stadt.
 Über die For
 tschritte des «Circular Cities Switzerland» Programms wird ecos sowie da
 s Amt für Umwelt und Energie Basel-Stadt informieren. Gemeinsam mit den E
 xperten werden insbesondere die Herausforderungen im Bereich Ernährung un
 d Wohnen beleuchtet.
 Die IFMA Regionalgruppe Basel trifft sich an diesem
  Event.
LOCATION:Dornacherstrasse 192\, 4053 Basel\, Schweiz
DTSTART:20190212T170000Z
DTEND:20190212T200000Z
DTSTAMP:20260421T154046Z
ORGANIZER;CN=IFMA Schweiz :MAILTO:admin@ifma.ch
GEO:47.541408;7.592897
X-APPLE-STRUCTURED-LOCATION;VALUE=URI;X-ADDRESS=Dornacherstrasse 192\, 4053
  Basel\, Schweiz;X-APPLE-RADIUS=72;X-TITLE=Basel\, LaunchLabs\, Halle 8:47
 .541408;7.592897
END:VEVENT
END:VCALENDAR