BEGIN:VCALENDAR
VERSION:2.0
PRODID:Events Booking
BEGIN:VEVENT
UID:69eb35379a2ff
SUMMARY:26. IFMA Generalversammlung
DESCRIPTION:
 Programm 
 
 Wir begehen die 26. Generalversammlung (GV) i
 m Landesmuseum Zürich.
 Wir stellen euch vor\, was die IFMA Schweiz im e
 rsten Verbandsjahr im Co-Präsidium erreicht hat. Zu jedem Ressort werden 
 die Aktivitäten aus dem bestehenden Jahr und die Ziele für das kommende 
 Verbandsjahr 2023/24 vorgestellt. Zudem dürft ihr neue Vorstandsmitgliede
 r wählen.
 Neben der ordentlichen GV werden wir etwas über das Landesmu
 seum\, insbesondere den Neubau\, erfahren. Am frühen Abend können wir ei
 nen Netzwerk Apéro\, zusammen mit geladenen Gästen\, geniessen. Wir freu
 en uns auf eine spannende GV mit euch!
LOCATION:Museumstrasse 2\, 8001 Zürich\, Schweiz
DTSTART:20230831T133000Z
DTEND:20230831T173000Z
DTSTAMP:20260424T111743Z
ORGANIZER;CN=IFMA Schweiz :MAILTO:admin@ifma.ch
GEO:47.379024;8.541006
X-APPLE-STRUCTURED-LOCATION;VALUE=URI;X-ADDRESS=Museumstrasse 2\, 8001 Zür
 ich\, Schweiz;X-APPLE-RADIUS=72;X-TITLE=Zürich\, Landesmuseum:47.379024;8
 .541006
END:VEVENT
END:VCALENDAR