BEGIN:VCALENDAR
VERSION:2.0
PRODID:Events Booking
BEGIN:VEVENT
UID:69e7c7b7cce83
SUMMARY:24. IFMA Generalversammlung
DESCRIPTION:Programm
 Covidmassnahmen: In den Innenräumen gilt Maskenpfli
 cht und beim Apéro Sitzpflicht.
 
 14:15 Eintreffen der Mitglieder im L
 HOC / Auditorium
 14:30 Begrüssung durch Susanna Caravatti-Felchlin\, Pr
 äsidentin IFMA Schweiz und Einführung durch Stephan M. Schneider\, Leite
 r Museum und Besuchermanagement
 15:00 Museumstour CHOCO-WELT mit Guide

  16:00 Kaffeepause im Café (Terrasse)
 16:30 Generalversammlung gemäss 
 Traktandenliste
 18:00 Apéro Zeit für vertiefende Gespräche
 
 
LOCATION:Seestrasse 204\, 8802 Kilchberg\, Schweiz
DTSTART:20210825T121500Z
DTEND:20210825T173000Z
DTSTAMP:20260421T205343Z
ORGANIZER;CN=IFMA Schweiz :MAILTO:admin@ifma.ch
GEO:47.317609;8.552404
X-APPLE-STRUCTURED-LOCATION;VALUE=URI;X-ADDRESS=Seestrasse 204\, 8802 Kilch
 berg\, Schweiz;X-APPLE-RADIUS=72;X-TITLE=Kilchberg\, Lindt Home of Chocola
 te:47.317609;8.552404
END:VEVENT
END:VCALENDAR