BEGIN:VCALENDAR
VERSION:2.0
PRODID:Events Booking
BEGIN:VEVENT
UID:69ea8d7e22fb4
SUMMARY:Webinar IFMA Meets: Critical Success Factors for Management of digi
 tal data in Projects
DESCRIPTION:
 Programm
 
LOCATION:Zürich\, Schweiz
DTSTART:20230301T153000Z
DTEND:20230301T163000Z
DTSTAMP:20230214T115416Z
ORGANIZER;CN=IFMA Schweiz :MAILTO:admin@ifma.ch
GEO:47.376887;8.541694
X-APPLE-STRUCTURED-LOCATION;VALUE=URI;X-ADDRESS=Zürich\, Schweiz;X-APPLE-R
 ADIUS=72;X-TITLE=online:47.376887;8.541694
END:VEVENT
END:VCALENDAR