BEGIN:VCALENDAR
VERSION:2.0
PRODID:Events Booking
BEGIN:VEVENT
UID:69e807f9696b9
SUMMARY:Swissbau Focus Basel: LCA und BIM - Gebäude ökologisch optimieren
DESCRIPTION:Die graue Energie ist ein Leitindikator für die Umweltbelastun
 g eines Bauwerks. Über den ganzen Lebenszyklus betrachtet\, ist sie oft h
 öher als die Summe der Betriebsenergie. Berücksichtigt man die graue Ene
 rgie konsequent – beispielsweise mit der Wahl von Holz als Baumaterial 
 – lässt sich auch der CO2 Ausstoss massiv verringern. Zur Optimierung d
 ieser ökologischen Auswirkungen eröffnet Planen und Bauen mit BIM neue M
 öglichkeiten. Wie sich das in einem Vorprojekt machen lässt\, zeigen Lig
 num und eco-bau beispielhaft.
 
 Gratis Messeeintritte werden in einem s
 epartem Mailing an alle Mitglieder der Verbände IFMA Schweiz\, fmpro\, SV
 IT FM Schweiz und RICS versendet.
LOCATION:Messepl. 1\, 4058 Basel\, Schweiz
DTSTART:20200115T140000Z
DTEND:20200114T150000Z
DTSTAMP:20260422T012753Z
ORGANIZER;CN=IFMA Schweiz :MAILTO:admin@ifma.ch
GEO:47.563976;7.599431
X-APPLE-STRUCTURED-LOCATION;VALUE=URI;X-ADDRESS=Messepl. 1\, 4058 Basel\, S
 chweiz;X-APPLE-RADIUS=72;X-TITLE=Basel\, Messe Basel Halle 1.0 Süd:47.563
 976;7.599431
END:VEVENT
END:VCALENDAR