BEGIN:VCALENDAR
VERSION:2.0
PRODID:Events Booking
BEGIN:VEVENT
UID:69eb5ced2057a
SUMMARY:Schweizer Wohntage 2024
DESCRIPTION:Ein nationaler Anlass rund ums Thema generationengerechte Wohn-
  und Lebensräume gestalten. An den meisten Tagen ist freier Eintritt ohne
  Anmeldung. Nutzen Sie dieses Angebot!
DTSTART:20241106T170000Z
DTEND:20240924T160000Z
DTSTAMP:20240903T132941Z
ORGANIZER;CN=IFMA Schweiz :MAILTO:admin@ifma.ch
END:VEVENT
END:VCALENDAR