BEGIN:VCALENDAR
VERSION:2.0
PRODID:Events Booking
BEGIN:VEVENT
UID:69eb3133ea51f
SUMMARY:manecoTreff
DESCRIPTION:Am manecoTreff wird die neue Form der Projektabwicklung aus den
  Perspektiven von Auftraggebenden\, Planenden und Ausführenden in Hochbau
 projekten dikutiert.
LOCATION:Münchensteinerstrasse 274A\, 4053 Basel\, Schweiz
DTSTART:20230314T170000Z
DTEND:20230314T200000Z
DTSTAMP:20230202T121528Z
ORGANIZER;CN=IFMA Schweiz :MAILTO:admin@ifma.ch
GEO:47.536068;7.609231
X-APPLE-STRUCTURED-LOCATION;VALUE=URI;X-ADDRESS=Münchensteinerstrasse 274A
 \, 4053 Basel\, Schweiz;X-APPLE-RADIUS=72;X-TITLE=:47.536068;7.609231
END:VEVENT
END:VCALENDAR