BEGIN:VCALENDAR
VERSION:2.0
PRODID:Events Booking
BEGIN:VEVENT
UID:69e7f881c9b10
SUMMARY:IFMA Spotlight 2020: Digitale Logistik
DESCRIPTION:Detailprogramm 
 Künstliche Intelligenz\, Robotik\, autonomes
  Fahren\, selbststeuernde Logistiksysteme nehmen vermehrt Einzug in unsere
  Arbeitswelt. Die digitale Transformation ist in diesen Bereichen nicht au
 fzuhalten. Wo stehen wir heute – welche Dienstleistungsmodelle werden un
 s in Zukunft unterstützen?
 
LOCATION:Heimplatz 1\, 8001 Zürich\, Schweiz
DTSTART:20200130T120000Z
DTEND:20200130T180000Z
DTSTAMP:20260422T002153Z
ORGANIZER;CN=IFMA Schweiz :MAILTO:admin@ifma.ch
GEO:47.370112;8.547861
X-APPLE-STRUCTURED-LOCATION;VALUE=URI;X-ADDRESS=Heimplatz 1\, 8001 Zürich\
 , Schweiz;X-APPLE-RADIUS=72;X-TITLE=Zürich\, Kunsthaus Grosser Vortragssa
 al:47.370112;8.547861
END:VEVENT
END:VCALENDAR