BEGIN:VCALENDAR
VERSION:2.0
PRODID:Events Booking
BEGIN:VEVENT
UID:69e7a488ea388
SUMMARY:IFMA Site Visit: BELIMO - Innovative Lösungen für mehr Komfort\, 
 Energieeffizienz und Sicherheit
DESCRIPTION:Detailprogramm
 &nbsp\;
 &nbsp\;
 &nbsp\;
 &nbsp\;
LOCATION:Brunnenbachstrasse 1\, 8340 Hinwil\, Schweiz
DTSTART:20180918T150000Z
DTEND:20180918T173000Z
DTSTAMP:20260421T182336Z
ORGANIZER;CN=IFMA Schweiz :MAILTO:admin@ifma.ch
GEO:47.306195;8.820324
X-APPLE-STRUCTURED-LOCATION;VALUE=URI;X-ADDRESS=Brunnenbachstrasse 1\, 8340
  Hinwil\, Schweiz;X-APPLE-RADIUS=72;X-TITLE=Hinwil\, Belimo:47.306195;8.82
 0324
END:VEVENT
END:VCALENDAR