BEGIN:VCALENDAR
VERSION:2.0
PRODID:Events Booking
BEGIN:VEVENT
UID:69ea2dcf018dd
SUMMARY:IFMA Meets: FM As-Built
DESCRIPTION:&gt\;&gt\;&gt\; Programm&nbsp\;
 Webinar mit Pius Winteler\, M
 oderation Simon Ashworth
 Wie wissen wir\, wie es vor genau Ort aussieht\
 , wenn wir noch nicht da waren? Bei diesem IFMA Webinar werden wir dieser 
 Frage genauer nachgehen und sie mit Hilfe aktueller 3-D Technologien und D
 atenplattformen beantworten.&nbsp\;
 Einen Tag vor dem Webinar erhalten S
 ie einen Aktivierungslink für Zoom.
 
LOCATION:Zürich\, Schweiz
DTSTART:20210422T143000Z
DTEND:20210422T153000Z
DTSTAMP:20260423T163351Z
ORGANIZER;CN=IFMA Schweiz :MAILTO:admin@ifma.ch
GEO:47.376887;8.541694
X-APPLE-STRUCTURED-LOCATION;VALUE=URI;X-ADDRESS=Zürich\, Schweiz;X-APPLE-R
 ADIUS=72;X-TITLE=online:47.376887;8.541694
END:VEVENT
END:VCALENDAR