BEGIN:VCALENDAR
VERSION:2.0
PRODID:Events Booking
BEGIN:VEVENT
UID:69ecc2e65a23e
SUMMARY:IFMA GV
DESCRIPTION:
 &nbsp\;
 &nbsp\;Detailprogramm
 &nbsp\; 
LOCATION:Hoffnigstrasse 1\, 8600 Dübendorf\, Schweiz
DTSTART:20180829T140000Z
DTEND:20180829T173000Z
DTSTAMP:20260425T153430Z
ORGANIZER;CN=IFMA Schweiz :MAILTO:admin@ifma.ch
GEO:47.395436;8.597954
X-APPLE-STRUCTURED-LOCATION;VALUE=URI;X-ADDRESS=Hoffnigstrasse 1\, 8600 Dü
 bendorf\, Schweiz;X-APPLE-RADIUS=72;X-TITLE=Dübendorf\, Samsung Hall:47.3
 95436;8.597954
END:VEVENT
END:VCALENDAR