BEGIN:VCALENDAR
VERSION:2.0
PRODID:Events Booking
BEGIN:VEVENT
UID:69e7f82c68fb6
SUMMARY:Get Together Ostschweiz
DESCRIPTION:
 &nbsp\;
 In lockerer Atmosphäre bei einem Glas Wein oder B
 ier sich über die beruflichen Herausforderungen austauschen. Gäste sind 
 herzlich willkommen.
 &nbsp\;
 &nbsp\;
LOCATION:Untere G. 9\, 7000 Chur\, Schweiz
DTSTART:20191120T170000Z
DTEND:20191120T190000Z
DTSTAMP:20260422T002028Z
ORGANIZER;CN=IFMA Schweiz :MAILTO:admin@ifma.ch
GEO:46.848669;9.530618
X-APPLE-STRUCTURED-LOCATION;VALUE=URI;X-ADDRESS=Untere G. 9\, 7000 Chur\, S
 chweiz;X-APPLE-RADIUS=72;X-TITLE=Chur\, Werkstatt Chur:46.848669;9.530618
END:VEVENT
END:VCALENDAR