BEGIN:VCALENDAR
VERSION:2.0
PRODID:Events Booking
BEGIN:VEVENT
UID:69e9fa38a9bd4
SUMMARY:Smarte Lösungen
DESCRIPTION:Beim Anlass \"Smarte Lösungen\" stehen Themen wie EnerGIS\, In
 telligentes Licht im vernetzten Gebäude und Smartes Design statt smarter 
 Technologie im Zentrum. Verschiedene Referenten führen durch den Abend.
LOCATION:Weinbergstrasse 36\, 8006 Zürich\, Schweiz
DTSTART:20190305T161500Z
DTEND:20190305T180000Z
DTSTAMP:20260423T125344Z
ORGANIZER;CN=IFMA Schweiz :MAILTO:admin@ifma.ch
GEO:47.379872;8.544478
X-APPLE-STRUCTURED-LOCATION;VALUE=URI;X-ADDRESS=Weinbergstrasse 36\, 8006 Z
 ürich\, Schweiz;X-APPLE-RADIUS=72;X-TITLE=Zürich\, Pfarreizentrum Liebfr
 auen:47.379872;8.544478
END:VEVENT
END:VCALENDAR