BEGIN:VCALENDAR
VERSION:2.0
PRODID:Events Booking
BEGIN:VEVENT
UID:69e741fa41461
SUMMARY:Lekas Praxistransfer
DESCRIPTION:Mit LekaS hat der Think Tank in Healthcare ein Grundlagenwerk e
 rstellt zur FM Leistungszuordnung im Gesundheitswesen.
 Im Fokus der Vera
 nstaltung steht die konkrete Nutzung von LekaS in den Spitälern und Heime
 n.
 Aufbauend auf dem Verständnis der Leistungszuordnung von LekaS basie
 ren Folgeprojekte zu Prozessmodellen\, zur Erstellung von SLA oder Kostens
 tellen und Kontopläne\, wie auch ein Modell für Softwareunterstützung d
 er FM Prozesse. Im Rahmen dieser Veranstaltung berichten zudem Spitäler 
 über konkrete Anwendungen von LekaS.
 Detailprogramm und Anmeldung
LOCATION:Lindenpl. 5\, 8048 Zürich\, Schweiz
DTSTART:20160428T113000Z
DTEND:20160428T151500Z
DTSTAMP:20260421T112306Z
ORGANIZER;CN=IFMA Schweiz :MAILTO:admin@ifma.ch
GEO:47.387394;8.485416
X-APPLE-STRUCTURED-LOCATION;VALUE=URI;X-ADDRESS=Lindenpl. 5\, 8048 Zürich\
 , Schweiz;X-APPLE-RADIUS=72;X-TITLE=Zürich\, Hotel Spirgarten:47.387394;8
 .485416
END:VEVENT
END:VCALENDAR